BEGIN:VCALENDAR
VERSION:2.0
PRODID:-//NAIOP - ECPv5.5.0.1//NONSGML v1.0//EN
CALSCALE:GREGORIAN
METHOD:PUBLISH
X-WR-CALNAME:NAIOP
X-ORIGINAL-URL:https://naiopnefl.com
X-WR-CALDESC:Events for NAIOP
BEGIN:VTIMEZONE
TZID:UTC
BEGIN:STANDARD
TZOFFSETFROM:+0000
TZOFFSETTO:+0000
TZNAME:UTC
DTSTART:20210101T000000
END:STANDARD
TZID:America/New_York
BEGIN:DAYLIGHT
TZOFFSETFROM:-0500
TZOFFSETTO:-0400
TZNAME:EDT
DTSTART:20210314T070000
END:DAYLIGHT
BEGIN:STANDARD
TZOFFSETFROM:-0400
TZOFFSETTO:-0500
TZNAME:EST
DTSTART:20211107T060000
END:STANDARD
END:VTIMEZONE
BEGIN:VEVENT
DTSTART;TZID=UTC:20210429T123000
DTEND;TZID=UTC:20210429T153000
DTSTAMP:20210428T112607
CREATED:20170508T065403Z
LAST-MODIFIED:20210330T143625Z
UID:687-1619699400-1619710200@naiopnefl.com
SUMMARY:NAIOP Supporting Hunger Fight
DESCRIPTION:NAIOP will be teaming up with Hunger Fight for a packing event to provide 10\,000 pre-packaged meals to local kids and families deemed food insecure and hungry. \nSince 2012 Hunger Fight has provided over 10.6 million pre-packaged nutritious meals throughout communities in the southeast to combat the nearly 1 in 7 people\, and 1 in 5 children\, that go hungry due to the inablility to afford food.  Pre-package meals are nutritionally balanced\, only require the addition of hot water\, and are distributed to local School Backpack and food bank programs. \nCome out to volunteer your time to help for an afternoon with other NAIOP members to assemble these meals.  We need 30 to 40 volunteers on Thursday\, April 29th from 12:30 to 3:30 pm.  Lunch will be provided to all volunteers. \nFor more information contact: Daniel Burkhardt\, 904-404-4455 or db@naihallmark.com
URL:https://naiopnefl.com/event/naiop-supporting-hungerfight/
LOCATION:Hunger Fight Headquarters\, 2935 Dawn Road\, Jacksonville\, Florida\, 32207
ATTACH;FMTTYPE=image/png:https://naiopnefl.com/wp-content/uploads/2017/05/HF-logo3_wurl.png
GEO:30.2705026;-81.6259676
X-APPLE-STRUCTURED-LOCATION;VALUE=URI;X-ADDRESS=Hunger Fight Headquarters 2935 Dawn Road Jacksonville Florida 32207;X-APPLE-RADIUS=500;X-TITLE=2935 Dawn Road:geo:-81.6259676,30.2705026
END:VEVENT
BEGIN:VEVENT
DTSTART;TZID=America/New_York:20210527T173000
DTEND;TZID=America/New_York:20210527T203000
DTSTAMP:20210428T112607
CREATED:20210422T115716Z
LAST-MODIFIED:20210423T135714Z
UID:2317-1622136600-1622147400@naiopnefl.com
SUMMARY:NAIOP DEVELOPING LEADERS LINEN & LEIS BEACH BASH
DESCRIPTION:Come lounge with us in our tropical paradise as we celebrate the start of summer!\nJoin Developing Leaders for our annual Linen & Leis Beach Bash at the Casa Marina Hotel on Thursday\, May 27th from 5:30 – 8:30 pm.\nIt’s cocktails\, hors d’oeuvres\, and more\, the fun begins when you walk in the door!\nEnjoy music by Robby & Felix\, games\, prizes and an evening full of casual networking with your NAIOP members and their guests.\nWear your favorite tropical attire!  \nEvent Sponsorship opportunities available\nCost to attend this awesome event is $40 for NAIOP Members\, $35 for NAIOP DL Members and $15 for your invited guest.
URL:https://naiopnefl.com/event/2317/
LOCATION:Casa Marina Hotel & Restaurant\, 691 1st Street North\, jacksonville beach\, FL\, 32250
CATEGORIES:Strategic Sites & Developing Leaders
ATTACH;FMTTYPE=image/jpeg:https://naiopnefl.com/wp-content/uploads/2017/01/strategic-sites-2-e1490966125538.jpg
END:VEVENT
END:VCALENDAR